BEGIN:VCALENDAR
VERSION:2.0
PRODID:-//Plone.org//NONSGML plone.app.event//EN
X-WR-TIMEZONE:Europe/Madrid
BEGIN:VEVENT
SUMMARY:Exposició: Reptes. Joves del Maresme en els règims de mobilitat
DTSTART;TZID=Europe/Madrid;VALUE=DATE-TIME:20181027T163000
DTEND;TZID=Europe/Madrid;VALUE=DATE-TIME:20181027T173000
DTSTAMP;VALUE=DATE-TIME:20260421T010818Z
UID:613ac8a4c6824f7298dc277bd98a8295
CREATED;VALUE=DATE-TIME:20181022T000000Z
CATEGORIES:Exposició,Agenda cultural
LOCATION:Espai Jove - Avinguda Verge de Montserrat, 1
ORGANIZER:Regidoria de Joventut - Espai Jove "El Cau" amb la col·laboració del Consell Comarcal del Maresme
COMMENT:Preu: Gratuït
Durada: De 17.30 a 20.30h
URL:https://www.svmontalt.cat/document.php?id=14779
END:VEVENT
END:VCALENDAR