BEGIN:VCALENDAR
VERSION:2.0
PRODID:-//Plone.org//NONSGML plone.app.event//EN
X-WR-TIMEZONE:Europe/Madrid
BEGIN:VEVENT
SUMMARY:A peu descalç, altra manera de viure el futbol
DTSTART;TZID=Europe/Madrid;VALUE=DATE-TIME:20070629T200000
DTEND;TZID=Europe/Madrid;VALUE=DATE-TIME:20070629T210000
DTSTAMP;VALUE=DATE-TIME:20260424T111640Z
UID:4cfb400baa2332f2787775b5266699ae
CREATED;VALUE=DATE-TIME:20070629T000000Z
CATEGORIES:Conferència,Agenda cultural
LOCATION:Centre Cívic El Gorg
ORGANIZER:C.F. Santvicentí amb la col·laboració de la Fundació Vicente Ferrer
COMMENT:Preu: Gratuït
DESCRIPTION:Xerrada-conferència sobre el I Campus de Futbol a l'Índia
URL:https://www.svmontalt.cat/document.php?id=1494
END:VEVENT
END:VCALENDAR