BEGIN:VCALENDAR
VERSION:2.0
PRODID:-//Plone.org//NONSGML plone.app.event//EN
X-WR-TIMEZONE:Europe/Madrid
BEGIN:VEVENT
SUMMARY:Tobada de gegants i capgrossos
DTSTART;TZID=Europe/Madrid;VALUE=DATE-TIME:20190120T090000
DTEND;TZID=Europe/Madrid;VALUE=DATE-TIME:20190120T100000
DTSTAMP;VALUE=DATE-TIME:20260423T171404Z
UID:37083ca20e9d3bfe4ff3508a5bfbf723
CREATED;VALUE=DATE-TIME:20190120T000000Z
CATEGORIES:Festa,Agenda cultural,Infantils
LOCATION:Carrer Major
ORGANIZER:Colla de Geganters de SVM amb la col·laboració de l'Ajuntament
URL:https://www.svmontalt.cat/document.php?id=15011
END:VEVENT
END:VCALENDAR