BEGIN:VCALENDAR
VERSION:2.0
PRODID:-//Plone.org//NONSGML plone.app.event//EN
X-WR-TIMEZONE:Europe/Madrid
BEGIN:VEVENT
SUMMARY:Concert i Ball de Festa Major
DTSTART;TZID=Europe/Madrid;VALUE=DATE-TIME:20190122T180000
DTEND;TZID=Europe/Madrid;VALUE=DATE-TIME:20190122T190000
DTSTAMP;VALUE=DATE-TIME:20260423T114309Z
UID:6f1a2e917dc9a7d36d440dcfb4a2e862
CREATED;VALUE=DATE-TIME:20190122T000000Z
CATEGORIES:Dansa,Festa,Música,Agenda cultural
LOCATION:Centre Cívic El Gorg - Riera del Gorg, s/n
ORGANIZER:Regidoria de Cultura i Festes
DESCRIPTION:Amb l'Orquesta Selvatana
URL:https://www.svmontalt.cat/document.php?id=15017
END:VEVENT
END:VCALENDAR