BEGIN:VCALENDAR
VERSION:2.0
PRODID:-//Plone.org//NONSGML plone.app.event//EN
X-WR-TIMEZONE:Europe/Madrid
BEGIN:VEVENT
SUMMARY:Final del Torneig de Billar
DTSTART;TZID=Europe/Madrid;VALUE=DATE-TIME:20190120T120000
DTEND;TZID=Europe/Madrid;VALUE=DATE-TIME:20190120T130000
DTSTAMP;VALUE=DATE-TIME:20260423T172128Z
UID:6f0f8b7c19293e215b9bbfac70c5a311
CREATED;VALUE=DATE-TIME:20190120T000000Z
LOCATION:Casal de la Gent Gran Els Xurravins - Riera del Gorg, s/n
ORGANIZER:Associació de Gent Gran Els Xurravins
COMMENT:Preu: Gratuït
URL:https://www.svmontalt.cat/document.php?id=15023
END:VEVENT
END:VCALENDAR