BEGIN:VCALENDAR
VERSION:2.0
PRODID:-//Plone.org//NONSGML plone.app.event//EN
X-WR-TIMEZONE:Europe/Madrid
BEGIN:VEVENT
SUMMARY:Tarda de jocs de taula
DTSTART;TZID=Europe/Madrid;VALUE=DATE-TIME:20190131T170000
DTEND;TZID=Europe/Madrid;VALUE=DATE-TIME:20190131T180000
DTSTAMP;VALUE=DATE-TIME:20260420T022317Z
UID:d4535957b8b3d494f24764afa9d48192
CREATED;VALUE=DATE-TIME:20190103T000000Z
LOCATION:Casal de la Gent Gran Els Xurravins - Riera del Gorg, s/n
ORGANIZER:Associació de Gent Gran Els Xurravins
COMMENT:Preu: Activitat gratuïta
Durada: De 17 a 20h
URL:https://www.svmontalt.cat/document.php?id=15065
END:VEVENT
END:VCALENDAR