BEGIN:VCALENDAR
VERSION:2.0
PRODID:-//Plone.org//NONSGML plone.app.event//EN
X-WR-TIMEZONE:Europe/Madrid
BEGIN:VEVENT
SUMMARY:Sortida a Montserrat
DTSTART;TZID=Europe/Madrid;VALUE=DATE-TIME:20190120T000000
DTEND;TZID=Europe/Madrid;VALUE=DATE-TIME:20190120T010000
DTSTAMP;VALUE=DATE-TIME:20260423T171657Z
UID:dff6ce4693ebb9db6f72a28391817238
CREATED;VALUE=DATE-TIME:20190120T000000Z
CATEGORIES:Esports
LOCATION:Pàrquing del c/ Ginesta - C/ Ginesta, s/n
ORGANIZER:MontalTrek
URL:https://www.svmontalt.cat/document.php?id=15076
END:VEVENT
END:VCALENDAR