BEGIN:VCALENDAR
VERSION:2.0
PRODID:-//Plone.org//NONSGML plone.app.event//EN
X-WR-TIMEZONE:Europe/Madrid
BEGIN:VEVENT
SUMMARY:El Último Tributo en concert
DTSTART;TZID=Europe/Madrid;VALUE=DATE-TIME:20190203T190000
DTEND;TZID=Europe/Madrid;VALUE=DATE-TIME:20190203T200000
DTSTAMP;VALUE=DATE-TIME:20260420T024017Z
UID:bb9d9efa71c5abfcbd95141d5e0d30dd
CREATED;VALUE=DATE-TIME:20190203T000000Z
CATEGORIES:Música,Agenda cultural
LOCATION:Centre Cívic El Gorg - Riera del Gorg, s/n
ORGANIZER:Regidoria de Cultura i Festes
COMMENT:Preu: Gratuït
URL:https://www.svmontalt.cat/document.php?id=15127
END:VEVENT
END:VCALENDAR