BEGIN:VCALENDAR
VERSION:2.0
PRODID:-//Plone.org//NONSGML plone.app.event//EN
X-WR-TIMEZONE:Europe/Madrid
BEGIN:VEVENT
SUMMARY:Matinal a la Serra de l'Obac
DTSTART;TZID=Europe/Madrid;VALUE=DATE-TIME:20190203T080000
DTEND;TZID=Europe/Madrid;VALUE=DATE-TIME:20190203T090000
DTSTAMP;VALUE=DATE-TIME:20260419T235250Z
UID:3373d0d2ae7d7dd07df4d3139dd64908
CREATED;VALUE=DATE-TIME:20190203T000000Z
CATEGORIES:Esports
LOCATION:Pàrquing del c/ Ginesta - C/ Ginesta, s/n
ORGANIZER:MontalTrek
DESCRIPTION:Bages
URL:https://www.svmontalt.cat/document.php?id=15172
END:VEVENT
END:VCALENDAR