BEGIN:VCALENDAR
VERSION:2.0
PRODID:-//Plone.org//NONSGML plone.app.event//EN
X-WR-TIMEZONE:Europe/Madrid
BEGIN:VEVENT
SUMMARY:Sortida fotogràfica
DTSTART;TZID=Europe/Madrid;VALUE=DATE-TIME:20190202T170000
DTEND;TZID=Europe/Madrid;VALUE=DATE-TIME:20190202T180000
DTSTAMP;VALUE=DATE-TIME:20260419T235358Z
UID:d0fe4b72bed4549625b536f858a7b54e
CREATED;VALUE=DATE-TIME:20190202T000000Z
LOCATION:Mirador de l'aeroport de Barcelona-El Prat - Mirador de l'aeroport de Barcelona-El Prat
ORGANIZER:Grup Fotogràfic SVM
URL:https://www.svmontalt.cat/document.php?id=15217
END:VEVENT
END:VCALENDAR