BEGIN:VCALENDAR
VERSION:2.0
PRODID:-//Plone.org//NONSGML plone.app.event//EN
X-WR-TIMEZONE:Europe/Madrid
BEGIN:VEVENT
SUMMARY:Taller de neurociència
DTSTART;TZID=Europe/Madrid;VALUE=DATE-TIME:20190223T110000
DTEND;TZID=Europe/Madrid;VALUE=DATE-TIME:20190223T120000
DTSTAMP;VALUE=DATE-TIME:20260420T042411Z
UID:0e2b795c7d0373b53f7c879a5398746c
CREATED;VALUE=DATE-TIME:20190223T000000Z
LOCATION:Centre Cívic El Gorg - Riera del Gorg, s/n
ORGANIZER:Biblioteca Municipal La Muntala
COMMENT:Durada: D'11 a 12:30h
URL:https://www.svmontalt.cat/document.php?id=15223
END:VEVENT
END:VCALENDAR