BEGIN:VCALENDAR
VERSION:2.0
PRODID:-//Plone.org//NONSGML plone.app.event//EN
X-WR-TIMEZONE:Europe/Madrid
BEGIN:VEVENT
SUMMARY:Anem al teatre a veure Hits del Tricicle
DTSTART;TZID=Europe/Madrid;VALUE=DATE-TIME:20190308T180000
DTEND;TZID=Europe/Madrid;VALUE=DATE-TIME:20190308T190000
DTSTAMP;VALUE=DATE-TIME:20260419T201135Z
UID:b128da8e1e4f170fc141b098d655e5cd
CREATED;VALUE=DATE-TIME:20190308T000000Z
CATEGORIES:Teatre,Agenda cultural
LOCATION:A les portes del Centre Cívic el Gorg - Riera del Gorg, s/n
ORGANIZER:Associació de Gent Gran Els Xurravins
COMMENT:Preu: 45&#128; socis - 49&#128; no socis
URL:https://www.svmontalt.cat/document.php?id=15333
END:VEVENT
END:VCALENDAR