BEGIN:VCALENDAR
VERSION:2.0
PRODID:-//Plone.org//NONSGML plone.app.event//EN
X-WR-TIMEZONE:Europe/Madrid
BEGIN:VEVENT
SUMMARY:Sortida amb raquetes de neu
DTSTART;TZID=Europe/Madrid;VALUE=DATE-TIME:20190310T000000
DTEND;TZID=Europe/Madrid;VALUE=DATE-TIME:20190310T010000
DTSTAMP;VALUE=DATE-TIME:20260419T211752Z
UID:0dd24871699bee40f8f6725a5c2001b7
CREATED;VALUE=DATE-TIME:20190309T000000Z
CATEGORIES:Esports
LOCATION:Pàrquing del c/ Ginesta - C/ Ginesta, s/n
ORGANIZER:MontalTrek
COMMENT:Durada: Dissabte 9 i diumenge 10
URL:https://www.svmontalt.cat/document.php?id=15334
END:VEVENT
END:VCALENDAR