BEGIN:VCALENDAR
VERSION:2.0
PRODID:-//Plone.org//NONSGML plone.app.event//EN
X-WR-TIMEZONE:Europe/Madrid
BEGIN:VEVENT
SUMMARY:Visites veïns
DTSTART;TZID=Europe/Madrid;VALUE=DATE-TIME:20190205T080500
DTEND;TZID=Europe/Madrid;VALUE=DATE-TIME:20190205T090500
DTSTAMP;VALUE=DATE-TIME:20260420T040924Z
UID:3686f949991b5934ed977df967b0feea
CREATED;VALUE=DATE-TIME:20190205T000000Z
LOCATION:Despatx d'Alcaldia - Carrer Sant Antoni, 13
URL:https://www.svmontalt.cat/document.php?id=15360
END:VEVENT
END:VCALENDAR