BEGIN:VCALENDAR
VERSION:2.0
PRODID:-//Plone.org//NONSGML plone.app.event//EN
X-WR-TIMEZONE:Europe/Madrid
BEGIN:VEVENT
SUMMARY:Club del llibre
DTSTART;TZID=Europe/Madrid;VALUE=DATE-TIME:20190308T190000
DTEND;TZID=Europe/Madrid;VALUE=DATE-TIME:20190308T200000
DTSTAMP;VALUE=DATE-TIME:20260419T200135Z
UID:96e97b0d28a1193f6fad9f30911a2921
CREATED;VALUE=DATE-TIME:20190308T000000Z
CATEGORIES:Literatura,Agenda cultural
LOCATION:Biblioteca Municipal La Muntala - Riera del Gorg, s/n
ORGANIZER:Biblioteca Municipal La Muntala
COMMENT:Preu: Gratuït
Durada: De 19 a 20h
DESCRIPTION:A càrrec de Joan Garcia Pey
URL:https://www.svmontalt.cat/document.php?id=15367
END:VEVENT
END:VCALENDAR