BEGIN:VCALENDAR
VERSION:2.0
PRODID:-//Plone.org//NONSGML plone.app.event//EN
X-WR-TIMEZONE:Europe/Madrid
BEGIN:VEVENT
SUMMARY:Exposició col·lectiva de fotografia
DTSTART;TZID=Europe/Madrid;VALUE=DATE-TIME:20190330T100000
DTEND;TZID=Europe/Madrid;VALUE=DATE-TIME:20190330T110000
DTSTAMP;VALUE=DATE-TIME:20260419T185234Z
UID:7d85c21803912aed7892c7f6d217ecb4
CREATED;VALUE=DATE-TIME:20190301T000000Z
CATEGORIES:Exposició,Agenda cultural
LOCATION:Biblioteca Municipal La Muntala - Riera del Gorg, s/n
ORGANIZER:Biblioteca Municipal La Muntala
COMMENT:Preu: Activitat gratuïta
URL:https://www.svmontalt.cat/document.php?id=15381
END:VEVENT
END:VCALENDAR