BEGIN:VCALENDAR
VERSION:2.0
PRODID:-//Plone.org//NONSGML plone.app.event//EN
X-WR-TIMEZONE:Europe/Madrid
BEGIN:VEVENT
SUMMARY:Classe gratuïta de Ioga
DTSTART;TZID=Europe/Madrid;VALUE=DATE-TIME:20190308T110000
DTEND;TZID=Europe/Madrid;VALUE=DATE-TIME:20190308T120000
DTSTAMP;VALUE=DATE-TIME:20260419T185334Z
UID:627cdf88bf69a1e949e20bdf58705c91
CREATED;VALUE=DATE-TIME:20190308T000000Z
CATEGORIES:Cursos,Agenda cultural
LOCATION:Centre Cívic El Gorg - Riera del Gorg, s/n
ORGANIZER:Donactiva
COMMENT:Preu: Activitat gratuïta
URL:https://www.svmontalt.cat/document.php?id=15392
END:VEVENT
END:VCALENDAR