BEGIN:VCALENDAR
VERSION:2.0
PRODID:-//Plone.org//NONSGML plone.app.event//EN
X-WR-TIMEZONE:Europe/Madrid
BEGIN:VEVENT
SUMMARY:Concurs de curtmetratges
DTSTART;TZID=Europe/Madrid;VALUE=DATE-TIME:20190308T130000
DTEND;TZID=Europe/Madrid;VALUE=DATE-TIME:20190308T140000
DTSTAMP;VALUE=DATE-TIME:20260419T185217Z
UID:55dc8168702083777fc819f66dfe5cb0
CREATED;VALUE=DATE-TIME:20190308T000000Z
CATEGORIES:Cinema,Agenda cultural
LOCATION:Institut Esteve Albert - Camí del Padró, 60-66
ORGANIZER:Institut Esteve Albert
COMMENT:Preu: Activitat gratuïta
URL:https://www.svmontalt.cat/document.php?id=15397
END:VEVENT
END:VCALENDAR