BEGIN:VCALENDAR
VERSION:2.0
PRODID:-//Plone.org//NONSGML plone.app.event//EN
X-WR-TIMEZONE:Europe/Madrid
BEGIN:VEVENT
SUMMARY:Festa 'Sant Vicenç DONA 2019'
DTSTART;TZID=Europe/Madrid;VALUE=DATE-TIME:20190309T093000
DTEND;TZID=Europe/Madrid;VALUE=DATE-TIME:20190309T103000
DTSTAMP;VALUE=DATE-TIME:20260419T185323Z
UID:14b84c99b5663aafcc56fdbc24a35421
CREATED;VALUE=DATE-TIME:20190309T000000Z
CATEGORIES:Festa,Agenda cultural
LOCATION:Parc dels Germans Gabrielistes - Camí del Padró
ORGANIZER:Ajuntament de Sant Vicenç de Montalt amb la col·laboració de la Colla de Geganters, Escola Municipal de Música L'Oriola, Escola Municipal de Dansa, Taller Municipal d'Arts Escèniques i Associació Gastronòmica Els Golafres
COMMENT:Preu: Gratuït, excepte el dinar popular (2 euros)
Durada: Durant tota la jornada
DESCRIPTION:Amb motiu del Dia Internacional de la Dona
URL:https://www.svmontalt.cat/document.php?id=15398
END:VEVENT
END:VCALENDAR