BEGIN:VCALENDAR
VERSION:2.0
PRODID:-//Plone.org//NONSGML plone.app.event//EN
X-WR-TIMEZONE:Europe/Madrid
BEGIN:VEVENT
SUMMARY:Cinema a la Fresca: Descubriendo a los Robinsons
DTSTART;TZID=Europe/Madrid;VALUE=DATE-TIME:20070817T220000
DTEND;TZID=Europe/Madrid;VALUE=DATE-TIME:20070817T230000
DTSTAMP;VALUE=DATE-TIME:20260425T162015Z
UID:0ee2a35c6ac2d5cf9ee3288442df9044
CREATED;VALUE=DATE-TIME:20070817T000000Z
CATEGORIES:Cinema,Agenda cultural
LOCATION:Avinguda Montaltnou
ORGANIZER:Regidoria de Cultura
COMMENT:Preu: Gratuït
URL:https://www.svmontalt.cat/document.php?id=1542
END:VEVENT
END:VCALENDAR