BEGIN:VCALENDAR
VERSION:2.0
PRODID:-//Plone.org//NONSGML plone.app.event//EN
X-WR-TIMEZONE:Europe/Madrid
BEGIN:VEVENT
SUMMARY:Exposició de vanos antics
DTSTART;TZID=Europe/Madrid;VALUE=DATE-TIME:20070930T000000
DTEND;TZID=Europe/Madrid;VALUE=DATE-TIME:20070930T010000
DTSTAMP;VALUE=DATE-TIME:20260419T172002Z
UID:5db22bf736d588cedb1a610f3d66a62d
CREATED;VALUE=DATE-TIME:20070930T000000Z
CATEGORIES:Exposició,Agenda cultural
LOCATION:Casal de la Gent Gran (Centre Cívic El Gorg)
ORGANIZER:Associació de Gent Gran "Els Xurravins"
COMMENT:Preu: Gratuït
Durada: Els mesos d'agost i setembre
DESCRIPTION:De l'1 d'agost al 30 de setembre
URL:https://www.svmontalt.cat/document.php?id=1553
END:VEVENT
END:VCALENDAR