BEGIN:VCALENDAR
VERSION:2.0
PRODID:-//Plone.org//NONSGML plone.app.event//EN
X-WR-TIMEZONE:Europe/Madrid
BEGIN:VEVENT
SUMMARY:Balls de Saló al Cívic
DTSTART;TZID=Europe/Madrid;VALUE=DATE-TIME:20080224T180000
DTEND;TZID=Europe/Madrid;VALUE=DATE-TIME:20080224T190000
DTSTAMP;VALUE=DATE-TIME:20260426T054326Z
UID:6839bcc87a06bf4cfa51a116efa605ab
CREATED;VALUE=DATE-TIME:20080224T000000Z
CATEGORIES:Dansa,Agenda cultural
LOCATION:Centre Cívic El Gorg
ORGANIZER:Regidoria de Cultura
COMMENT:Preu: Gratuït
URL:https://www.svmontalt.cat/document.php?id=1591
END:VEVENT
END:VCALENDAR