BEGIN:VCALENDAR
VERSION:2.0
PRODID:-//Plone.org//NONSGML plone.app.event//EN
X-WR-TIMEZONE:Europe/Madrid
BEGIN:VEVENT
SUMMARY:Cicle de Xerrades: Viure millor
DTSTART;TZID=Europe/Madrid;VALUE=DATE-TIME:20071017T170000
DTEND;TZID=Europe/Madrid;VALUE=DATE-TIME:20071017T180000
DTSTAMP;VALUE=DATE-TIME:20260421T012340Z
UID:966f64b0f5f49cd2e4bfa2b5697c42dd
CREATED;VALUE=DATE-TIME:20071017T000000Z
CATEGORIES:Conferència,Agenda cultural
LOCATION:Casal de la Gent Gran (Centre Cívic El Gorg)
ORGANIZER:Associació de Gent Gran "Els Xurravins", Departament de Salut de la Generalitat de Catalunya, Fundació La Caixa i Fundació Dieta Mediterrània
COMMENT:Preu: Gratuït
DESCRIPTION:Sobre alimentació i activitat física
URL:https://www.svmontalt.cat/document.php?id=1593
END:VEVENT
END:VCALENDAR