BEGIN:VCALENDAR
VERSION:2.0
PRODID:-//Plone.org//NONSGML plone.app.event//EN
X-WR-TIMEZONE:Europe/Madrid
BEGIN:VEVENT
SUMMARY:Tarda de jocs de taula
DTSTART;TZID=Europe/Madrid;VALUE=DATE-TIME:20190905T163000
DTEND;TZID=Europe/Madrid;VALUE=DATE-TIME:20190905T173000
DTSTAMP;VALUE=DATE-TIME:20260421T075812Z
UID:ad519408d3d477dc1d3f9be3612a96a1
CREATED;VALUE=DATE-TIME:20190905T000000Z
LOCATION:Centre Cívic El Gorg - Riera del Gorg, s/n
ORGANIZER:Associació de Gent Gran Els Xurravins
COMMENT:Preu: Activitat gratuïta
Durada: De 16:30 a 20:00h
URL:https://www.svmontalt.cat/document.php?id=15989
END:VEVENT
END:VCALENDAR