BEGIN:VCALENDAR
VERSION:2.0
PRODID:-//Plone.org//NONSGML plone.app.event//EN
X-WR-TIMEZONE:Europe/Madrid
BEGIN:VEVENT
SUMMARY:Matinal al Pou de Glaç de Canyamars
DTSTART;TZID=Europe/Madrid;VALUE=DATE-TIME:20190918T093000
DTEND;TZID=Europe/Madrid;VALUE=DATE-TIME:20190918T103000
DTSTAMP;VALUE=DATE-TIME:20260421T073904Z
UID:c0da5481d7c0aa21f1feb1799fc8c1be
CREATED;VALUE=DATE-TIME:20190918T000000Z
CATEGORIES:Esports
LOCATION:A les portes del Centre Cívic el Gorg - Riera del Gorg, s/n
ORGANIZER:Associació de Gent Gran Els Xurravins
COMMENT:Preu: Gratuït
DESCRIPTION:Caminar saludable
URL:https://www.svmontalt.cat/document.php?id=16002
END:VEVENT
END:VCALENDAR