BEGIN:VCALENDAR
VERSION:2.0
PRODID:-//Plone.org//NONSGML plone.app.event//EN
X-WR-TIMEZONE:Europe/Madrid
BEGIN:VEVENT
SUMMARY:Round table en francès
DTSTART;TZID=Europe/Madrid;VALUE=DATE-TIME:20191018T190000
DTEND;TZID=Europe/Madrid;VALUE=DATE-TIME:20191018T200000
DTSTAMP;VALUE=DATE-TIME:20260426T045741Z
UID:48f73fc2bc7a76d0ba6798e06f4cfa54
CREATED;VALUE=DATE-TIME:20191018T000000Z
LOCATION:Centre Cívic El Gorg - Riera del Gorg, s/n
ORGANIZER:Biblioteca Municipal La Muntala
COMMENT:Preu: Activitat gratuïta
URL:https://www.svmontalt.cat/document.php?id=16083
END:VEVENT
END:VCALENDAR