BEGIN:VCALENDAR
VERSION:2.0
PRODID:-//Plone.org//NONSGML plone.app.event//EN
X-WR-TIMEZONE:Europe/Madrid
BEGIN:VEVENT
SUMMARY:La II Mostra d´Entitats escalfa motors
DTSTART;TZID=Europe/Madrid;VALUE=DATE-TIME:20070925T193000
DTEND;TZID=Europe/Madrid;VALUE=DATE-TIME:20070925T203000
DTSTAMP;VALUE=DATE-TIME:20260425T161910Z
UID:69120d4d5f926f28bdc12b119a40e997
CREATED;VALUE=DATE-TIME:20070925T000000Z
LOCATION:Centre Cívic El Gorg
ORGANIZER:Regidoria de Participació Ciutadana
URL:https://www.svmontalt.cat/document.php?id=1614
END:VEVENT
END:VCALENDAR