BEGIN:VCALENDAR
VERSION:2.0
PRODID:-//Plone.org//NONSGML plone.app.event//EN
X-WR-TIMEZONE:Europe/Madrid
BEGIN:VEVENT
SUMMARY:Curs de sardanes
DTSTART;TZID=Europe/Madrid;VALUE=DATE-TIME:20191105T210000
DTEND;TZID=Europe/Madrid;VALUE=DATE-TIME:20191105T220000
DTSTAMP;VALUE=DATE-TIME:20260422T122713Z
UID:6cf6a73d42ee6f103617be9247097f07
CREATED;VALUE=DATE-TIME:20191105T000000Z
CATEGORIES:Cursos,Agenda cultural
LOCATION:Centre Cívic El Gorg - Riera del Gorg, s/n
ORGANIZER:Regidoria de Cultura i Festes
COMMENT:Preu: Gratuït
DESCRIPTION:Impartit per Xavier Chornet
URL:https://www.svmontalt.cat/document.php?id=16144
END:VEVENT
END:VCALENDAR