BEGIN:VCALENDAR
VERSION:2.0
PRODID:-//Plone.org//NONSGML plone.app.event//EN
X-WR-TIMEZONE:Europe/Madrid
BEGIN:VEVENT
SUMMARY:Curs de sardanes
DTSTART;TZID=Europe/Madrid;VALUE=DATE-TIME:20191203T210000
DTEND;TZID=Europe/Madrid;VALUE=DATE-TIME:20191203T220000
DTSTAMP;VALUE=DATE-TIME:20260419T200447Z
UID:e1ec10e455ef25beaf7a66c4317eaa32
CREATED;VALUE=DATE-TIME:20191203T000000Z
CATEGORIES:Cursos,Agenda cultural
LOCATION:Centre Cívic El Gorg - Riera del Gorg, s/n
ORGANIZER:Regidoria de Cultura i Festes
COMMENT:Preu: Gratuït
DESCRIPTION:Impartit per Xavier Chornet
URL:https://www.svmontalt.cat/document.php?id=16148
END:VEVENT
END:VCALENDAR