BEGIN:VCALENDAR
VERSION:2.0
PRODID:-//Plone.org//NONSGML plone.app.event//EN
X-WR-TIMEZONE:Europe/Madrid
BEGIN:VEVENT
SUMMARY:Formació associativa: El Pressupost Municipal
DTSTART;TZID=Europe/Madrid;VALUE=DATE-TIME:20071003T200000
DTEND;TZID=Europe/Madrid;VALUE=DATE-TIME:20071003T210000
DTSTAMP;VALUE=DATE-TIME:20260426T015553Z
UID:acf33b49dea35e5732ab7b9f54f16722
CREATED;VALUE=DATE-TIME:20071003T000000Z
CATEGORIES:Cursos,Agenda cultural
LOCATION:Centre Cívic El Gorg
ORGANIZER:Regidoria de Participació Ciutadana
COMMENT:Preu: Gratuït
URL:https://www.svmontalt.cat/document.php?id=1615
END:VEVENT
END:VCALENDAR