BEGIN:VCALENDAR
VERSION:2.0
PRODID:-//Plone.org//NONSGML plone.app.event//EN
X-WR-TIMEZONE:Europe/Madrid
BEGIN:VEVENT
SUMMARY:Taller: Dones que ho podem tot. Canvis i cerca de feina després dels 45 anys
DTSTART;TZID=Europe/Madrid;VALUE=DATE-TIME:20191107T100000
DTEND;TZID=Europe/Madrid;VALUE=DATE-TIME:20191107T110000
DTSTAMP;VALUE=DATE-TIME:20260422T063259Z
UID:0ee564804677ce073c6292a0c56400e0
CREATED;VALUE=DATE-TIME:20191104T000000Z
CATEGORIES:Cursos,Agenda cultural
LOCATION:Centre Cívic El Gorg - Riera del Gorg, s/n
ORGANIZER:Regidoria de Promoció Econòmica i Ocupació
COMMENT:Preu: Gratuït
Durada: De 10 a 14h
URL:https://www.svmontalt.cat/document.php?id=16152
END:VEVENT
END:VCALENDAR