BEGIN:VCALENDAR
VERSION:2.0
PRODID:-//Plone.org//NONSGML plone.app.event//EN
X-WR-TIMEZONE:Europe/Madrid
BEGIN:VEVENT
SUMMARY:Llegir el teatre: La Rambla de les floristes
DTSTART;TZID=Europe/Madrid;VALUE=DATE-TIME:20191102T190000
DTEND;TZID=Europe/Madrid;VALUE=DATE-TIME:20191102T200000
DTSTAMP;VALUE=DATE-TIME:20260422T063244Z
UID:a75a12c1f4cab8b53b2dd9a2939be54b
CREATED;VALUE=DATE-TIME:20191102T000000Z
CATEGORIES:Literatura,Teatre,Agenda cultural
LOCATION:Teatre Nacional de Catalunya (TNC)
ORGANIZER:Biblioteca Municipal La Muntala
COMMENT:Preu: 20 euros
DESCRIPTION:Sortida al TNC
URL:https://www.svmontalt.cat/document.php?id=16159
END:VEVENT
END:VCALENDAR