BEGIN:VCALENDAR
VERSION:2.0
PRODID:-//Plone.org//NONSGML plone.app.event//EN
X-WR-TIMEZONE:Europe/Madrid
BEGIN:VEVENT
SUMMARY:Cim XL Lupus: Pujada al Montalt
DTSTART;TZID=Europe/Madrid;VALUE=DATE-TIME:20191103T090000
DTEND;TZID=Europe/Madrid;VALUE=DATE-TIME:20191103T100000
DTSTAMP;VALUE=DATE-TIME:20260422T093536Z
UID:4a2f68e28ae503d56fa6d595c662a61d
CREATED;VALUE=DATE-TIME:20191103T000000Z
CATEGORIES:Esports
LOCATION:Avinguda Toni Sors - Avinguda Toni Sors, s/n
ORGANIZER:MontalTrek
DESCRIPTION:Per donar difusió a la investigació del Lupus
URL:https://www.svmontalt.cat/document.php?id=16160
END:VEVENT
END:VCALENDAR