BEGIN:VCALENDAR
VERSION:2.0
PRODID:-//Plone.org//NONSGML plone.app.event//EN
X-WR-TIMEZONE:Europe/Madrid
BEGIN:VEVENT
SUMMARY:Matinal a la Roca del Drac de Vilardell
DTSTART;TZID=Europe/Madrid;VALUE=DATE-TIME:20191106T093000
DTEND;TZID=Europe/Madrid;VALUE=DATE-TIME:20191106T103000
DTSTAMP;VALUE=DATE-TIME:20260422T080334Z
UID:637f39deb4a9fb1519448beb0441b52b
CREATED;VALUE=DATE-TIME:20191106T000000Z
CATEGORIES:Esports
LOCATION:A les portes del Centre Cívic el Gorg - Riera del Gorg, s/n
ORGANIZER:Associació de Gent Gran Els Xurravins
COMMENT:Preu: Gratuït
DESCRIPTION:Caminar saludable
URL:https://www.svmontalt.cat/document.php?id=16161
END:VEVENT
END:VCALENDAR