BEGIN:VCALENDAR
VERSION:2.0
PRODID:-//Plone.org//NONSGML plone.app.event//EN
X-WR-TIMEZONE:Europe/Madrid
BEGIN:VEVENT
SUMMARY:Taller pràctic de reflexologia podal
DTSTART;TZID=Europe/Madrid;VALUE=DATE-TIME:20191106T103000
DTEND;TZID=Europe/Madrid;VALUE=DATE-TIME:20191106T113000
DTSTAMP;VALUE=DATE-TIME:20260422T093417Z
UID:54094b9d43197bff25d9e24b8677c615
CREATED;VALUE=DATE-TIME:20191106T000000Z
CATEGORIES:Cursos,Agenda cultural
LOCATION:Centre Cívic El Gorg - Riera del Gorg, s/n
ORGANIZER:Associació de Gent Gran Els Xurravins
COMMENT:Preu: Activitat gratuïta
Durada: De 10 a 11.30h
DESCRIPTION:Activitat familiar
URL:https://www.svmontalt.cat/document.php?id=16163
END:VEVENT
END:VCALENDAR