BEGIN:VCALENDAR
VERSION:2.0
PRODID:-//Plone.org//NONSGML plone.app.event//EN
X-WR-TIMEZONE:Europe/Madrid
BEGIN:VEVENT
SUMMARY:Tarda de Bingo al Casal
DTSTART;TZID=Europe/Madrid;VALUE=DATE-TIME:20191107T180000
DTEND;TZID=Europe/Madrid;VALUE=DATE-TIME:20191107T190000
DTSTAMP;VALUE=DATE-TIME:20260422T080528Z
UID:f02a017999bf96a815856b167dfab3ca
CREATED;VALUE=DATE-TIME:20191107T000000Z
LOCATION:Casal de la Gent Gran Els Xurravins - Riera del Gorg, s/n
ORGANIZER:Associació de Gent Gran Els Xurravins
COMMENT:Preu: Activitat gratuïta
Durada: De 18:00 a 19:30
URL:https://www.svmontalt.cat/document.php?id=16165
END:VEVENT
END:VCALENDAR