BEGIN:VCALENDAR
VERSION:2.0
PRODID:-//Plone.org//NONSGML plone.app.event//EN
X-WR-TIMEZONE:Europe/Madrid
BEGIN:VEVENT
SUMMARY:Taller: Com ser seleccionat a Infojobs i aconseguir un 70% d'efectivitat
DTSTART;TZID=Europe/Madrid;VALUE=DATE-TIME:20191108T093000
DTEND;TZID=Europe/Madrid;VALUE=DATE-TIME:20191108T103000
DTSTAMP;VALUE=DATE-TIME:20260422T093347Z
UID:081aa78000428586189a04c125c84e92
CREATED;VALUE=DATE-TIME:20191108T000000Z
CATEGORIES:Cursos,Agenda cultural
LOCATION:Centre Cívic El Gorg - Riera del Gorg, s/n
ORGANIZER:Regidoria de Promoció Econòmica i Ocupació
COMMENT:Preu: Gratuït
Durada: De 9.30 a 13.30h
URL:https://www.svmontalt.cat/document.php?id=16167
END:VEVENT
END:VCALENDAR