BEGIN:VCALENDAR
VERSION:2.0
PRODID:-//Plone.org//NONSGML plone.app.event//EN
X-WR-TIMEZONE:Europe/Madrid
BEGIN:VEVENT
SUMMARY:Jornada de portes obertes a l'Escola de Dibuix i Pintura dels Xurravins
DTSTART;TZID=Europe/Madrid;VALUE=DATE-TIME:20191108T173000
DTEND;TZID=Europe/Madrid;VALUE=DATE-TIME:20191108T183000
DTSTAMP;VALUE=DATE-TIME:20260422T080544Z
UID:f2b1dda7ef4c2076a92528f61e8375dc
CREATED;VALUE=DATE-TIME:20191108T000000Z
LOCATION:Casal de la Gent Gran Els Xurravins - Riera del Gorg, s/n
ORGANIZER:Associació de Gent Gran Els Xurravins
COMMENT:Preu: Gratuït
DESCRIPTION:Pintar es fàcil si saps com fer-ho!
URL:https://www.svmontalt.cat/document.php?id=16168
END:VEVENT
END:VCALENDAR