BEGIN:VCALENDAR
VERSION:2.0
PRODID:-//Plone.org//NONSGML plone.app.event//EN
X-WR-TIMEZONE:Europe/Madrid
BEGIN:VEVENT
SUMMARY:Festa Halloween
DTSTART;TZID=Europe/Madrid;VALUE=DATE-TIME:20191031T193000
DTEND;TZID=Europe/Madrid;VALUE=DATE-TIME:20191031T203000
DTSTAMP;VALUE=DATE-TIME:20260422T064541Z
UID:566b3b60a2642a35596ddc79c5499817
CREATED;VALUE=DATE-TIME:20191031T000000Z
CATEGORIES:Festa,Agenda cultural
LOCATION:Plaça del Poble - Plaça del Poble, s/n
ORGANIZER:Regidoria de Cultura i Festes
COMMENT:Preu: Gratuït
URL:https://www.svmontalt.cat/document.php?id=16192
END:VEVENT
END:VCALENDAR