BEGIN:VCALENDAR
VERSION:2.0
PRODID:-//Plone.org//NONSGML plone.app.event//EN
X-WR-TIMEZONE:Europe/Madrid
BEGIN:VEVENT
SUMMARY:Curs de Català: Nivell Intermedi
DTSTART;TZID=Europe/Madrid;VALUE=DATE-TIME:20071105T190000
DTEND;TZID=Europe/Madrid;VALUE=DATE-TIME:20071105T200000
DTSTAMP;VALUE=DATE-TIME:20260426T045726Z
UID:3d7a31fb1f2a1191719ede37a35fcd38
CREATED;VALUE=DATE-TIME:20071105T000000Z
CATEGORIES:Cursos,Agenda cultural
LOCATION:Centre Cívic El Gorg
ORGANIZER:Regidoria d'Educació i Consorci de Normalització Lingüística
URL:https://www.svmontalt.cat/document.php?id=1624
END:VEVENT
END:VCALENDAR