BEGIN:VCALENDAR
VERSION:2.0
PRODID:-//Plone.org//NONSGML plone.app.event//EN
X-WR-TIMEZONE:Europe/Madrid
BEGIN:VEVENT
SUMMARY:Curs de Català: Nivell Inicial II
DTSTART;TZID=Europe/Madrid;VALUE=DATE-TIME:20071106T190000
DTEND;TZID=Europe/Madrid;VALUE=DATE-TIME:20071106T200000
DTSTAMP;VALUE=DATE-TIME:20260426T045711Z
UID:b39413fa00a3cd91d8d5fb71b99e68b0
CREATED;VALUE=DATE-TIME:20071106T000000Z
CATEGORIES:Cursos,Agenda cultural
LOCATION:Centre Cívic El Gorg
ORGANIZER:Regidoria d'Educació i Consorci de Normalització Lingüística
URL:https://www.svmontalt.cat/document.php?id=1625
END:VEVENT
END:VCALENDAR