BEGIN:VCALENDAR
VERSION:2.0
PRODID:-//Plone.org//NONSGML plone.app.event//EN
X-WR-TIMEZONE:Europe/Madrid
BEGIN:VEVENT
SUMMARY:Exposició: Treballs de Patchword
DTSTART;TZID=Europe/Madrid;VALUE=DATE-TIME:20071031T000000
DTEND;TZID=Europe/Madrid;VALUE=DATE-TIME:20071031T010000
DTSTAMP;VALUE=DATE-TIME:20260419T235922Z
UID:9fa1443735ccdcfd419b68885de5781e
CREATED;VALUE=DATE-TIME:20071031T000000Z
CATEGORIES:Exposició,Agenda cultural
LOCATION:Casal de la Gent Gran Els Xurravins al Centre Cívic
ORGANIZER:Associació de Gent Gran Els Xurravins
COMMENT:Preu: Gratuït
DESCRIPTION:Tot el mes d'octubre
URL:https://www.svmontalt.cat/document.php?id=1626
END:VEVENT
END:VCALENDAR