BEGIN:VCALENDAR
VERSION:2.0
PRODID:-//Plone.org//NONSGML plone.app.event//EN
X-WR-TIMEZONE:Europe/Madrid
BEGIN:VEVENT
SUMMARY:Festa amb els 80 Principals i Festassa Jove amb DJ's de Cocoa
DTSTART;TZID=Europe/Madrid;VALUE=DATE-TIME:20200125T223000
DTEND;TZID=Europe/Madrid;VALUE=DATE-TIME:20200125T233000
DTSTAMP;VALUE=DATE-TIME:20260423T073705Z
UID:9c68aafb74e9389367b4d436f6055a44
CREATED;VALUE=DATE-TIME:20200125T000000Z
CATEGORIES:Festa,Música,Agenda cultural
LOCATION:Centre Cívic El Gorg - Riera del Gorg, s/n
ORGANIZER:Regidoria de Cultura i Festes
COMMENT:Preu: Gratuït (Aforament limitat)
URL:https://www.svmontalt.cat/document.php?id=16439
END:VEVENT
END:VCALENDAR