BEGIN:VCALENDAR
VERSION:2.0
PRODID:-//Plone.org//NONSGML plone.app.event//EN
X-WR-TIMEZONE:Europe/Madrid
BEGIN:VEVENT
SUMMARY:Taca't pel càncer infantil! Xocolatada Solidària
DTSTART;TZID=Europe/Madrid;VALUE=DATE-TIME:20200214T163000
DTEND;TZID=Europe/Madrid;VALUE=DATE-TIME:20200214T173000
DTSTAMP;VALUE=DATE-TIME:20260425T002339Z
UID:67a1accb57149102d59cd16f0d3c4e44
CREATED;VALUE=DATE-TIME:20200214T000000Z
LOCATION:A les portes de les escoles Sant Jordi i Sot del Camp
ORGANIZER:AMPA de les escoles Sant Jordi i Sot del Camp i de l'Escola Bressol Municipal Els Garrofers
COMMENT:Preu: 1 got de xocolata, 1 euro
DESCRIPTION:A les portes de les escoles Sant Jordi, Sot del Camp i Els Garrofers
URL:https://www.svmontalt.cat/document.php?id=16517
END:VEVENT
END:VCALENDAR