BEGIN:VCALENDAR
VERSION:2.0
PRODID:-//Plone.org//NONSGML plone.app.event//EN
X-WR-TIMEZONE:Europe/Madrid
BEGIN:VEVENT
SUMMARY:Taller: En forma
DTSTART;TZID=Europe/Madrid;VALUE=DATE-TIME:20200326T180000
DTEND;TZID=Europe/Madrid;VALUE=DATE-TIME:20200326T190000
DTSTAMP;VALUE=DATE-TIME:20260425T002854Z
UID:e478829f09f744c423837956d544a798
CREATED;VALUE=DATE-TIME:20200204T000000Z
CATEGORIES:Esports,Cursos,Agenda cultural
LOCATION:Centre Cívic El Gorg - Riera del Gorg, s/n
ORGANIZER:Associació de Gent Gran Els Xurravins amb el suport de Fundació &#145;la Caixa´
COMMENT:Preu: Gratuït
Durada: Els dimarts i dijous, de 18 a 19h
DESCRIPTION:Suspès com a mesura de prevenció del coronavirus
URL:https://www.svmontalt.cat/document.php?id=16536
END:VEVENT
END:VCALENDAR