BEGIN:VCALENDAR
VERSION:2.0
PRODID:-//Plone.org//NONSGML plone.app.event//EN
X-WR-TIMEZONE:Europe/Madrid
BEGIN:VEVENT
SUMMARY:Anem al teatre Tívoli a veure "Stalin"
DTSTART;TZID=Europe/Madrid;VALUE=DATE-TIME:20071123T190000
DTEND;TZID=Europe/Madrid;VALUE=DATE-TIME:20071123T200000
DTSTAMP;VALUE=DATE-TIME:20260420T043044Z
UID:94da82fd1a92a41609d2d0d5716c0b65
CREATED;VALUE=DATE-TIME:20071123T000000Z
CATEGORIES:Teatre,Agenda cultural
LOCATION:Sortida: Davant el Centre Cívic El Gorg
ORGANIZER:Associació de Gent Gran Els Xurravins
COMMENT:Preu: Autocar i entrada: 30&#128;
URL:https://www.svmontalt.cat/document.php?id=1663
END:VEVENT
END:VCALENDAR