BEGIN:VCALENDAR
VERSION:2.0
PRODID:-//Plone.org//NONSGML plone.app.event//EN
X-WR-TIMEZONE:Europe/Madrid
BEGIN:VEVENT
SUMMARY:Novembre d'exposicions al Casal de la Gent Gran
DTSTART;TZID=Europe/Madrid;VALUE=DATE-TIME:20071130T000000
DTEND;TZID=Europe/Madrid;VALUE=DATE-TIME:20071130T010000
DTSTAMP;VALUE=DATE-TIME:20260419T170656Z
UID:55a411a060d2fd88e4bffc531c7e466d
CREATED;VALUE=DATE-TIME:20071130T000000Z
CATEGORIES:Exposició,Agenda cultural
LOCATION:Casal de Gent Gran Els Xurravins (Centre Cívic El Gorg)
ORGANIZER:Associació de Gent Gran Els Xurravins
COMMENT:Preu: Gratuït
Durada: Tot el mes de novembre
DESCRIPTION:Bolets de ceràmica i pipes del món
URL:https://www.svmontalt.cat/document.php?id=1684
END:VEVENT
END:VCALENDAR