BEGIN:VCALENDAR
VERSION:2.0
PRODID:-//Plone.org//NONSGML plone.app.event//EN
X-WR-TIMEZONE:Europe/Madrid
BEGIN:VEVENT
SUMMARY:Exposició: "Fauna extraordinària de les nostres rieres"
DTSTART;TZID=Europe/Madrid;VALUE=DATE-TIME:20071122T000000
DTEND;TZID=Europe/Madrid;VALUE=DATE-TIME:20071122T010000
DTSTAMP;VALUE=DATE-TIME:20260419T170625Z
UID:e78803770fc49329d2e3215504503a44
CREATED;VALUE=DATE-TIME:20071122T000000Z
CATEGORIES:Exposició,Agenda cultural
LOCATION:Centre Cívic El Gorg
ORGANIZER:Aula de Natura
COMMENT:Preu: Gratuït
Durada: Del 29 d'octubre al 23 de novembre
DESCRIPTION:Fins al 23 de novembre
URL:https://www.svmontalt.cat/document.php?id=1685
END:VEVENT
END:VCALENDAR