BEGIN:VCALENDAR
VERSION:2.0
PRODID:-//Plone.org//NONSGML plone.app.event//EN
X-WR-TIMEZONE:Europe/Madrid
BEGIN:VEVENT
SUMMARY:Lliurament de premis de la XXIV Mostra Literària del Maresme
DTSTART;TZID=Europe/Madrid;VALUE=DATE-TIME:20071117T190000
DTEND;TZID=Europe/Madrid;VALUE=DATE-TIME:20071117T200000
DTSTAMP;VALUE=DATE-TIME:20260419T152627Z
UID:91e0c9261bd19f6c1ece18bab9007769
CREATED;VALUE=DATE-TIME:20071117T000000Z
CATEGORIES:Literatura,Agenda cultural
LOCATION:Centre Cívic El Gorg
ORGANIZER:Ajuntament de Sant Vicenç de Montalt
COMMENT:Preu: Gratuït
URL:https://www.svmontalt.cat/document.php?id=1692
END:VEVENT
END:VCALENDAR