BEGIN:VCALENDAR
VERSION:2.0
PRODID:-//Plone.org//NONSGML plone.app.event//EN
X-WR-TIMEZONE:Europe/Madrid
BEGIN:VEVENT
SUMMARY:Club del llibre on line
DTSTART;TZID=Europe/Madrid;VALUE=DATE-TIME:20200711T180000
DTEND;TZID=Europe/Madrid;VALUE=DATE-TIME:20200711T190000
DTSTAMP;VALUE=DATE-TIME:20260424T170650Z
UID:85d026cddd2a87bacf4f8e5ecb6ae48a
CREATED;VALUE=DATE-TIME:20200711T000000Z
CATEGORIES:Literatura,Agenda cultural
ORGANIZER:Biblioteca Municipal La Muntala
COMMENT:Preu: Gratuït
DESCRIPTION:Activitat virtual
URL:https://www.svmontalt.cat/document.php?id=17005
END:VEVENT
END:VCALENDAR